﻿BEGIN:VCALENDAR
PRODID:-//Microsoft Corporation//Outlook 12.0 MIMEDIR//EN
VERSION:2.0
METHOD:PUBLISH
X-MS-OLK-FORCEINSPECTOROPEN:TRUE
BEGIN:VEVENT
CLASS:PUBLIC
DESCRIPTION:我們即將揭開MSI Gameverse的神秘面紗，為大家介紹全新的MSI宇宙！誠摯地邀請您參與盛會，並期待與您線上相見！ \n\n時間：2022年1月5日 上午5:00開始 \n\n觀看連結：https://msi.gm/MSIology_YT
DTEND:20220104T213000Z
DTSTART:20220104T210000Z
LOCATION:https://msi.gm/MSIology_YT
PRIORITY:5
SEQUENCE:0
SUMMARY;LANGUAGE=en-us:MSIology: MSI Gameverse January 2022
TRANSP:OPAQUE
UID:040000008200E00074C5B7101A82E002200880218062306C6261CA91100000000000020
X-MICROSOFT-CDO-BUSYSTATUS:BUSY
X-MICROSOFT-CDO-IMPORTANCE:1
X-MICROSOFT-DISALLOW-COUNTER:FALSE
X-MS-OLK-ALLOWEXTERNCHECK:TRUE
X-MS-OLK-AUTOFILLLOCATION:FALSE
X-MS-OLK-CONFTYPE:0
BEGIN:VALARM
TRIGGER:-PT1440M
ACTION:DISPLAY
DESCRIPTION:Reminder
END:VALARM
END:VEVENT
END:VCALENDAR



